BEGIN:VCALENDAR
VERSION:2.0
PRODID:-//Fernhurst Parish Council//Meeting Calendar//EN
CALSCALE:GREGORIAN
METHOD:PUBLISH
BEGIN:VEVENT
UID:71911-20260429@fernhurst-pc.gov.uk
DTSTAMP:20260424T112914Z
DTSTART;VALUE=DATE:20260429
DTEND;VALUE=DATE:20260430
SUMMARY:Planning Meeting &#8211\\; 29 April 2026
DESCRIPTION:Planning Committee Meeting\nView details: https://fernhurst-pc.gov.uk/meetings/planning-meeting-29-april-2026/
URL:https://fernhurst-pc.gov.uk/meetings/planning-meeting-29-april-2026/
END:VEVENT
END:VCALENDAR
