BEGIN:VCALENDAR
VERSION:2.0
PRODID:-//Fernhurst Parish Council//Meeting Calendar//EN
CALSCALE:GREGORIAN
METHOD:PUBLISH
BEGIN:VEVENT
UID:71583-20260218@fernhurst-pc.gov.uk
DTSTAMP:20260421T082422Z
DTSTART;VALUE=DATE:20260218
DTEND;VALUE=DATE:20260219
SUMMARY:Full Council Meeting &#8211\\; 18 February 2026
DESCRIPTION:Full Council Meeting\nView details: https://fernhurst-pc.gov.uk/meetings/full-council-meeting-18-february-2026/
URL:https://fernhurst-pc.gov.uk/meetings/full-council-meeting-18-february-2026/
END:VEVENT
END:VCALENDAR
